BEGIN:VCALENDAR
VERSION:2.0
PRODID:-//mientrada.net - ECPv5.16.0//NONSGML v1.0//EN
CALSCALE:GREGORIAN
METHOD:PUBLISH
X-WR-CALNAME:mientrada.net
X-ORIGINAL-URL:https://www.mientrada.net
X-WR-CALDESC:Eventos para mientrada.net
REFRESH-INTERVAL;VALUE=DURATION:PT1H
X-Robots-Tag:noindex
X-PUBLISHED-TTL:PT1H
BEGIN:VTIMEZONE
TZID:Europe/Madrid
BEGIN:DAYLIGHT
TZOFFSETFROM:+0100
TZOFFSETTO:+0200
TZNAME:CEST
DTSTART:20220327T010000
END:DAYLIGHT
BEGIN:STANDARD
TZOFFSETFROM:+0200
TZOFFSETTO:+0100
TZNAME:CET
DTSTART:20221030T010000
END:STANDARD
END:VTIMEZONE
BEGIN:VEVENT
DTSTART;TZID=Europe/Madrid:20220108T190000
DTEND;TZID=Europe/Madrid:20220108T200000
DTSTAMP:20260420T155120
CREATED:20211213T163006Z
LAST-MODIFIED:20211213T163128Z
UID:10472-1641668400-1641672000@www.mientrada.net
SUMMARY:Reencuentros - Recital para violín y piano
DESCRIPTION:Violín: María Estela Lastre Castillo.\nPiano: David Caro Caro. \n  \nPROGRAMA \nSonata para violín y piano en Mi menor – Mozart (10’) \nI. Allegro\nII. Tempo di Minuetto \nSonata para violín y piano en La Mayor – Franck (30’) \nI. Allegretto ben moderato\nII. Allegro\nIII. Recitativo – Fantasía: ben moderato\nIV. Allegretto poco mosso \nSongs my mother taught me – Dvoràk (arreglo de Kreisler) (3’) \nCanciones populares españolas – Falla (15’) \nI. El paño moruno\nII. Nana\nIII. Canción\nIV. Polo\nV. Asturiana\nVI. Jota \n  \nMARÍA ESTELA LASTRE CASTILLO (1999)\nComienza sus estudios de violín a los 8 años en el Conservatorio Manuel Carra de Málaga con los maestros Sofía López Prados y Javier Claudio Portales. Al finalizar las Enseñanzas Profesionales\, se traslada a Madrid\, a estudiar el Grado en Interpretación Musical con los maestros Miguel Colom y Alfredo García en la Universidad Alfonso X El Sabio. Además\, ha asistido a cursos con maestros internacionales como Agustín León Ara\, Simon Fischer\, Keiko Wataya\, Yuval Gotlibovich\, Raquel Castro\, Jesús Reina\, Kirill Troussov o Vera Beths. Ha recibido varios premios como 3er premio en el Certamen Málaga Crea 2020\, 1er premio en Concurso de Interpretación José Salinas 2017 o 2º premio en el Certamen Ángeles Reina 2014. También ha tocado como solista en numerosas ocasiones junto a la Orquesta Promúsica y la Orquesta Sinfónica de la Universidad Alfonso X El Sabio. Por otro lado\, ha formado parte de numerosas orquestas como: Orquesta Promúsica\, Orquesta Joven de Andalucía\, Orquesta Joven de Extremadura y Joven Orquesta Nacional de España; realizando conciertos por toda Europa\, además de la grabación de 3 CDs. Actualmente\, la violinista reside en los Países Bajos\, donde estudia un máster de interpretación en el Real Conservatorio de La Haya con la maestra Vera Beths\, gracias a la Beca al Talento concedida por la Fundación Málaga para el curso 2021/22. \n  \nDAVID CARO CARO (1989)\nComienza a tocar el piano a los 8 años en el Conservatorio Elemental Maestro Artola\, con los profesores Diego Pereira y Mª Ángeles Villaseñor. Tras finalizar el Grado Profesional\, bajo la tutela de Diego Pereira y Jorge Torrón\, se traslada a Madrid\, donde completa el Grado Superior en el Real Conservatorio Superior de Música con la maestra Pilar Bilbao\, obteniendo Matrícula de Honor. Tras una época trabajando con el maestro Josep Colom\, realiza sus estudios de máster en la Royal Academy of Music de Londres\, con el pianista Pascal Nomirovsky. Ha ofrecido recitales por toda la geografía española: San Sebastián\, Málaga\, Torremolinos\, Madrid\, Granada\, Sevilla\, Valencia\, Gijón\, Santander\, Alcalá de Henares o Linares\, entre otros lugares. Y también ha actuado como solista con orquestas como la Joven Orquesta de la Comunidad de Madrid o la Orquesta Joven de Granada. \nDuración: 60 minutos.\nEdad recomendada: Todos los públicos. \n  \nPuede compartir este evento en:
URL:https://www.mientrada.net/evento/reencuentros-recital-para-violin-y-piano/2022-01-08/
LOCATION:Sala Joaquín Eléjar\, Calle San Juan Bosco\, 79\, Málaga\, Málaga\, 29014\, España
CATEGORIES:Concierto,Málaga,Sala Joaquín Eléjar
ATTACH;FMTTYPE=image/jpeg:https://www.mientrada.net/wp-content/uploads/2021/12/Cartel-Reencuentros.jpg
END:VEVENT
BEGIN:VEVENT
DTSTART;TZID=Europe/Madrid:20220108T190000
DTEND;TZID=Europe/Madrid:20220108T203000
DTSTAMP:20260420T155120
CREATED:20211025T104506Z
LAST-MODIFIED:20211025T104632Z
UID:10153-1641668400-1641673800@www.mientrada.net
SUMMARY:GALA REYES 2022 - CONCIERTO PARA ZAPATA Y ORQUESTA
DESCRIPTION:Orquesta Filarmónica de Málaga. \nPROGRAMA \n\nObertura de «La Gazza Ladra» (G. Rossini)\nTritsch-Tratsch-Polka (J. Strauss II)\nLa donna e mobile (G. Verdi)\nMacarena Mozart (J. F. Padilla)\nSuite «El cascanueces» 4ºmov. – Trepak\, danza rusa (P. I. Tchaikovsky)\nObertura de «Guillermo Tell» (G. Rossini)\nMarcha triunfal «Aida» (G. Verdi)\nDie Fledermaus (J. Strauss)\nMarcha Radetzky (J. Strauss)\nPieza Corta (Zapata\, Mir\, Padilla)\nIch grolle nicht (R. Schumann)\nNana (J. Brahms)\nAir (J.S. Bach)\n4º mov. 5ª sinfonía (L. Beethoven)\n\nOrquesta Filarmónica de Málaga\nDirector de Orquesta y tenor: Jose Manuel Zapata\nDirector de escena: Paco Mir\nArreglos: Juan Francisco Padilla \n  \nPrecios: \n\n15€ entrada general;\n10€ entrada reducida para mayores de 65 años\, jóvenes hasta 21 años y personas con movilidad reducida (será necesario presentar documentación que lo acredite con la entrada).\n\n  \nPuede compartir este evento en:
URL:https://www.mientrada.net/evento/gala-reyes-2022/
LOCATION:Palacio de Ferias y Congresos de Málaga\, Av. de José Ortega y Gasset\, 201\, Málaga\, Málaga\, 29006\, España
CATEGORIES:Málaga,Orquesta Filarmónica de Málaga,Palacio de Ferias y Congresos de Málaga
ATTACH;FMTTYPE=image/jpeg:https://www.mientrada.net/wp-content/uploads/2021/10/Cartel-Gala-Reyes-2022.jpg
END:VEVENT
BEGIN:VEVENT
DTSTART;TZID=Europe/Madrid:20220108T200000
DTEND;TZID=Europe/Madrid:20220108T210000
DTSTAMP:20260420T155120
CREATED:20211223T134752Z
LAST-MODIFIED:20211229T171835Z
UID:10534-1641672000-1641675600@www.mientrada.net
SUMMARY:Academia de Baile Sara Jorge
DESCRIPTION:DREAM DANCERS. \nLa Academia de baile de Sara Jorge se compone por la fusión de varios estilos de bailes modernos y líricos. Con un grupo comprendido de 3 años hasta adultos\, tras dos años sin bailar vienen más fuertes que nunca a demostrar que nada ni nadie podrá frenar su gran pasión por la danza. \n  \nPrecio: 6€ \n  \nNORMAS DE OBLIGADO CUMPLIMIENTO: \n\nPor favor\, siga en todo momento las indicaciones higienico-sanitarias dadas por el personal de la sala.\nObligatorio el uso correcto de la mascarilla (cubriendo nariz y boca) en todo el recinto.\n\n  \nPuede compartir este evento en:
URL:https://www.mientrada.net/evento/academia-de-baile-sara-jorge/
LOCATION:Centro Cultural Villa de Nerja\, Calle Granada 45\, Nerja\, Málaga\, 29780\, España
CATEGORIES:Centro Cultural Villa de Nerja,Nerja
ATTACH;FMTTYPE=image/jpeg:https://www.mientrada.net/wp-content/uploads/2021/12/Cartel-Sara-Jorge.jpg
END:VEVENT
BEGIN:VEVENT
DTSTART;TZID=Europe/Madrid:20220114T190000
DTEND;TZID=Europe/Madrid:20220114T200000
DTSTAMP:20260420T155120
CREATED:20210916T124918Z
LAST-MODIFIED:20211012T171444Z
UID:10033-1642186800-1642190400@www.mientrada.net
SUMMARY:X LA FILARMÓNICA FRENTE AL MAR - Nº 4
DESCRIPTION:Comparte este evento en:
URL:https://www.mientrada.net/evento/x-la-filarmonica-frente-al-mar-4/
LOCATION:Auditorio Edgar Neville\, Calle Pacífico\, 54\, Málaga\, Málaga\, 29004\, España
CATEGORIES:Auditorio Edgar Neville,Málaga,Orquesta Filarmónica de Málaga
ATTACH;FMTTYPE=image/jpeg:https://www.mientrada.net/wp-content/uploads/2021/09/Imagen-X-Ofm-frente-al-mar.jpg
END:VEVENT
BEGIN:VEVENT
DTSTART;TZID=Europe/Madrid:20220115T190000
DTEND;TZID=Europe/Madrid:20220115T200000
DTSTAMP:20260420T155120
CREATED:20210914T162750Z
LAST-MODIFIED:20211220T170003Z
UID:10514-1642273200-1642276800@www.mientrada.net
SUMMARY:Noche efímera
DESCRIPTION:Asociación Cultural Teatro y Aparte. \nEn la oscuridad de la noche\, cada luz de la ciudad\, alberga una historia que ilumina. \nEn un ático\, Sabina\, una actriz venida a menos\, se emborracha esperando una importante llamada. Mientras\, Adolfo\, un mal vendedor de biblias\, se cruzará en su camino. \nEn otro lugar\, Carmen\, una mujer aburguesada\, se enfrenta por primera vez a la aventura de coger un metro nocturno para volver a casa. En esa lúgubre estación\, José\, un currante ahora desempleado\, aparecerá en su vida. \nUn teléfono que no suena\, un tren que no llega y\, un encuentro entre desconocidos de mundos opuestos\, en una noche mágica y diferente\, en la que podría pasar cualquier cosa. \n  \nFicha artística y técnica: \n\nReparto: Juanma Lobato\, Susi Pérez\, Mar Chicón y Alberto Rosaleny\nDirector: Raquel Barcala y José Luis Guerrero Fernández\nAutora: Paloma Pedrero\nTécnico: Garikoitz Lariz\nEscenografía y Vestuario: Asociación Cultural Teatro y Aparte\n\n  \nPrecio: 8 euros anticipada online / 10 euros taquilla\nGénero: comedia realista ambientada en la España actual.\nDuración: 60 minutos.\nEdad recomendada: mayores de 16 años. \n  \nComparte este evento en:
URL:https://www.mientrada.net/evento/noche-efimera/
LOCATION:Sala Joaquín Eléjar\, Calle San Juan Bosco\, 79\, Málaga\, Málaga\, 29014\, España
CATEGORIES:Málaga,Sala Joaquín Eléjar,Teatro
ATTACH;FMTTYPE=image/jpeg:https://www.mientrada.net/wp-content/uploads/2021/09/Cartel-Noche-efimera.jpg
END:VEVENT
BEGIN:VEVENT
DTSTART;TZID=Europe/Madrid:20220115T200000
DTEND;TZID=Europe/Madrid:20220115T210000
DTSTAMP:20260420T155120
CREATED:20211223T125642Z
LAST-MODIFIED:20211223T160108Z
UID:10531-1642276800-1642280400@www.mientrada.net
SUMMARY:Fl-ABBA-menco
DESCRIPTION:Johan Sengard y Joakim Niehoff. \nEl saxofonista sueco Johan Stengard y el pianista Joakim Niehoff interpretando melodías populares presentadas con anécdotas singulares. Presentamos FLABBAMENCO\, un estreno mundial con Antonio Guerra y su cuadro flamenco. \nSwedish artist saxophonist Johan Stengård and pianist Joakim Niehoff performing popular melodies presented with entertaining anecdotes. Introducing FLABBAMENCO\, a world premiere\, with Antonio Guerra and his original Andalusian flamenco dancers group. \nPrecio: 25€ \n  \nNORMAS DE OBLIGADO CUMPLIMIENTO: \n\nPor favor\, siga en todo momento las indicaciones higienico-sanitarias dadas por el personal de la sala.\nObligatorio el uso correcto de la mascarilla (cubriendo nariz y boca) en todo el recinto.\n\nPuede compartir este evento en:
URL:https://www.mientrada.net/evento/fl-abba-menco/
LOCATION:Centro Cultural Villa de Nerja\, Calle Granada 45\, Nerja\, Málaga\, 29780\, España
CATEGORIES:Centro Cultural Villa de Nerja,Nerja
ATTACH;FMTTYPE=image/jpeg:https://www.mientrada.net/wp-content/uploads/2021/12/Cartel-FlAbbMenco.jpg
END:VEVENT
BEGIN:VEVENT
DTSTART;TZID=Europe/Madrid:20220116T190000
DTEND;TZID=Europe/Madrid:20220116T200000
DTSTAMP:20260420T155120
CREATED:20210914T162750Z
LAST-MODIFIED:20211220T163800Z
UID:9669-1642359600-1642363200@www.mientrada.net
SUMMARY:Milagro en el convento
DESCRIPTION:Compañía Se abre el telón Teatro. \nEn el convento de Las Hermanas Veganas elaboran un elixir conocido en el mundo entero. Para mejorar las ventas\, Sor Inés\, la monja encargada de la fabricación\, revolucionará a la congregación modificando la fórmula tradicional. \nFicha artística y técnica: \n\nMaite Gallardo Jover\, actriz\nMarian García Clavero\, actriz\nMarisa Suárez Lozano\, actriz\nNoelia Menjibar Nadales\, actriz\nJuan Lozano Carrasco\, actor\nElizabet Domínguez Fernández\, actriz\nRaúl Adolfo Campos Robles\, actor\n\nDirección: Roberto Romance Agüera \nCompañía: Se abre el telón Teatro \nPrecio: 8 euros anticipada online / 10 euros taquilla\nGénero: comedia.\nDuración: 60 minutos.\nEdad recomendada: mayores de 16 años. \n  \nComparte este evento en:
URL:https://www.mientrada.net/evento/milagro-en-el-convento/
LOCATION:Sala Joaquín Eléjar\, Calle San Juan Bosco\, 79\, Málaga\, Málaga\, 29014\, España
CATEGORIES:Málaga,Sala Joaquín Eléjar,Teatro
ATTACH;FMTTYPE=image/jpeg:https://www.mientrada.net/wp-content/uploads/2021/09/Cartel-Milagro-en-el-Convento-sin-fecha.jpg
END:VEVENT
BEGIN:VEVENT
DTSTART;TZID=Europe/Madrid:20220121T200000
DTEND;TZID=Europe/Madrid:20220121T210000
DTSTAMP:20260420T155120
CREATED:20211223T141858Z
LAST-MODIFIED:20220120T103929Z
UID:10540-1642795200-1642798800@www.mientrada.net
SUMMARY:Vargas Blues Band - CANCELADO
DESCRIPTION:EVENTO CANCELADO. LAS ENTRADAS DE INTERNET SE DEVOLVERÁN AUTOMÁTICAMENTE\, Y LAS DE TAQUILLA EN EL CENTRO CULTURAL. LAMENTAMOS LAS MOLESTIAS.\n \n  \nBack in Memphis. \nMúsico de sesión y acompañante en las giras de Salvador\, Javier Gurruchaga y Manolo Tena\, Javier no tardó en ponerse en fama cuando\, en 1992\, publicó «Madrid-Memphis». En el 94 salió «Blues la-tino» con colaboraciones como Chris Rea\, Junior Wells\, Flaco Jiménez\, Andrés Calamaro… \nLa conquista del mercado internacional estaba decidida\, máxime cuando la canción que daba título al álbum fue incluida por el también guitarrista Carlos Santana en su disco «Santana Brothers». Aquel fue el comienzo de un reconocimiento generalizado. Los años han transcurrido con nuevos discos\, nuevas giras y colaboraciones muy diversas. De todo ello dará cuenta este concierto\, junto a los temas del nuevo «Back In Menphis»\, dentro de la gira que está haciendo por todo el país. \n  \nPrecio: 15€ anticipada / 18€ en taquilla el día del concierto \n  \nNORMAS DE OBLIGADO CUMPLIMIENTO: \n\nPor favor\, siga en todo momento las indicaciones higienico-sanitarias dadas por el personal de la sala.\nObligatorio el uso correcto de la mascarilla (cubriendo nariz y boca) en todo el recinto.\n\n  \nPuede compartir este evento en:
URL:https://www.mientrada.net/evento/vargas-blues-band/
LOCATION:Centro Cultural Villa de Nerja\, Calle Granada 45\, Nerja\, Málaga\, 29780\, España
CATEGORIES:Centro Cultural Villa de Nerja,Nerja
ATTACH;FMTTYPE=image/jpeg:https://www.mientrada.net/wp-content/uploads/2021/12/Cartel-Vargas-Blues-Band.jpg
END:VEVENT
BEGIN:VEVENT
DTSTART;TZID=Europe/Madrid:20220122T190000
DTEND;TZID=Europe/Madrid:20220122T195000
DTSTAMP:20260420T155120
CREATED:20211213T163741Z
LAST-MODIFIED:20211213T164140Z
UID:10481-1642878000-1642881000@www.mientrada.net
SUMMARY:Jonás
DESCRIPTION:Compañía Teatro del Soho. \nJonás tiene diecisiete años. Su aburrida vida transcurre entre las clases al instituto\, las sesiones con el psicólogo\, las broncas con su madre y las charlas con su amigo. Pero debajo de esa aparente calma laten el deseo de escapar de los demonios del pasado y las ansias de emprender un viaje de incierto final. \n  \nFicha artística/técnica: \n\nAutor: Antonio Jesús González\nIntérprete: Ángel Flores\nMúsica: Juan Zagalaz\nAyudante dirección: Almudena León\nTécnico: Fran Burgos\nProducción: Asociación Cultural Teatro del Soho\nDirección: Antonio Jesús González\n\n  \nGénero: Monólogo dramático\nEdad recomendada: Adultos\nDuración: 55 minutos \nPrecio: 8 euros anticipada online / 10 euros taquilla \n  \nPuede compartir este evento en:
URL:https://www.mientrada.net/evento/jonas/2022-01-22/
LOCATION:Sala Joaquín Eléjar\, Calle San Juan Bosco\, 79\, Málaga\, Málaga\, 29014\, España
CATEGORIES:Málaga,Monólogo,Sala Joaquín Eléjar
ATTACH;FMTTYPE=image/jpeg:https://www.mientrada.net/wp-content/uploads/2021/12/Cartel-Jonas.jpg
END:VEVENT
BEGIN:VEVENT
DTSTART;TZID=Europe/Madrid:20220122T200000
DTEND;TZID=Europe/Madrid:20220122T210000
DTSTAMP:20260420T155120
CREATED:20211223T143440Z
LAST-MODIFIED:20211223T155705Z
UID:10544-1642881600-1642885200@www.mientrada.net
SUMMARY:Dúo Jean-Pierre Rampal (flauta y guitarra)
DESCRIPTION:Caludi Arimany (flauta) y Javier Moreno (guitarra). \nEl dúo\, que ya ha visitado anteriormente el Centro Cultural con gran éxito\, está formado por el flautista Claudi Arimany y el guitarrista Javier García Moreno. El programa lleva por título «La Exquisita Música de Salón». \n  \nPrecio: 12 € \n  \nNORMAS DE OBLIGADO CUMPLIMIENTO: \n\nPor favor\, siga en todo momento las indicaciones higienico-sanitarias dadas por el personal de la sala.\nObligatorio el uso correcto de la mascarilla (cubriendo nariz y boca) en todo el recinto.\n\n  \nPuede compartir este evento en:
URL:https://www.mientrada.net/evento/duo-jean-pierre-rampal-flauta-y-guitarra/
LOCATION:Centro Cultural Villa de Nerja\, Calle Granada 45\, Nerja\, Málaga\, 29780\, España
CATEGORIES:Centro Cultural Villa de Nerja,Nerja
ATTACH;FMTTYPE=image/jpeg:https://www.mientrada.net/wp-content/uploads/2021/12/Cartel-Duo-Jean-Pierre-Rampal.jpg
END:VEVENT
BEGIN:VEVENT
DTSTART;TZID=Europe/Madrid:20220128T200000
DTEND;TZID=Europe/Madrid:20220128T210000
DTSTAMP:20260420T155120
CREATED:20211229T164213Z
LAST-MODIFIED:20211229T164245Z
UID:10558-1643400000-1643403600@www.mientrada.net
SUMMARY:Americalatida
DESCRIPTION:En un escenario bañado por más de 250 velas el compositor y guitarrista Fernando Egozcue presenta su nuevo proyecto de tango y flamenco junto al violinista Tomas Potiron y la bailaora Cristina de Vega. \nLa música de Egozcue es de raíz argentina e intensamente emotiva\, concebida como una música de cámara\, con un fuerte y fluido desarrollo rítmico. Tanto su formación clásica como la influencia del jazz y las músicas contemporáneas se combinan para dejar paso a la pasión y a la fuerza expresiva de una música auténtica\, verdadera\, arrebatadora…. logrando ser el autor de un género de música propio\, único en todo el mundo que le ha consolidado como un reputado compositor e intérprete. \nLa contrastada calidad de Tomas Potiron al violín junto con la danza flamenca de Cristina Vega aporta la consistencia rítmica y solidez armónica necesarias para que nada quede sin decir. \nFernando Egozcue\, Guitarra\nTomas Potiron\, Violín\nCristina Vega\, Danza \n  \nNORMAS DE OBLIGADO CUMPLIMIENTO: \n\nPor favor\, siga en todo momento las indicaciones higienico-sanitarias dadas por el personal de la sala.\nObligatorio el uso correcto de la mascarilla (cubriendo nariz y boca) en todo el recinto.\n\n  \nPuede compartir este evento en:
URL:https://www.mientrada.net/evento/americalatida/
LOCATION:Centro Cultural Villa de Nerja\, Calle Granada 45\, Nerja\, Málaga\, 29780\, España
CATEGORIES:Centro Cultural Villa de Nerja,Nerja
ATTACH;FMTTYPE=image/jpeg:https://www.mientrada.net/wp-content/uploads/2021/12/Cartel-Americalatida.jpg
END:VEVENT
BEGIN:VEVENT
DTSTART;TZID=Europe/Madrid:20220128T203000
DTEND;TZID=Europe/Madrid:20220128T214000
DTSTAMP:20260420T155120
CREATED:20220121T143253Z
LAST-MODIFIED:20220121T150619Z
UID:10772-1643401800-1643406000@www.mientrada.net
SUMMARY:P de PARTIDA
DESCRIPTION:Disponible a partir del lunes 24 de enero a las 10:00h. \nCICLO ESCENIK.\n2 Proposiciones & GNP Producciones.\nEntrada con invitación hasta completar aforo. Público adulto. \nEs la última propuesta en la trayectoria de 2Proposiciones\, en esta ocasión de la mano de GNP Producciones con la colaboración de la Agencia de Instituciones Culturales\, de la Junta de Andalucía. Se trata de una creación\, de una hora de duración\, con cuatro personajes en escena\, quienes ahondan en sus puntos de partida existenciales\, amorosos\, psicológicos… No es una obra de tesis\, no da respuestas. Cuestiona\, eso sí\, los procesos cíclicos y esos significados optimistas que le damos a cada nuevo comienzo. Pero\, sobre todo\, P de Partida se pregunta dónde queda el azar\, la fortuna\, en este paseo que es la vida. ¿Dónde empieza y dónde termina nuestro poder de decidir y cambiar el futuro? Cuatro intérpretes de amplia trayectoria artística dan vida a esta pieza: Sandra Ortega\, Anna París\, Arturo Parrilla y Raquel Madrid. \n  \nFicha artística: \n\nLa impulsora de todo esto es Raquel Madrid\nLa creación es colectiva por parte de Anna París\, Isabel Vázquez\, Arturo Parrilla\, Raquel Madrid\nLa dramaturgia y los textos son de Cipri López.\n\n  \n \n  \nNORMAS DE OBLIGADO CUMPLIMIENTO: \n\nPor favor\, siga en todo momento las indicaciones higienico-sanitarias dadas por el personal de la sala.\nObligatorio el uso correcto de la mascarilla (cubriendo nariz y boca) en todo el recinto.\nSi una vez sacada la entrada no puede acudir al espectáculo\, por favor comuníquelo por correo (cultura@malaga.es) o por teléfono (952133950).\nEntrada solo con invitación. No acudir al teatro si no dispone de ella.\n\n  \nPuede compartir este evento en:
URL:https://www.mientrada.net/evento/p-de-partida/
LOCATION:Centro Cultural MVA\, Calle Ollerías\, 33\, Málaga\, Málaga\, 29012\, España
CATEGORIES:Centro Cultural Provincial MVA,Culturama,Málaga,Teatro
ATTACH;FMTTYPE=image/jpeg:https://www.mientrada.net/wp-content/uploads/2022/01/Cartel-P-de-Partida.jpg
END:VEVENT
BEGIN:VEVENT
DTSTART;TZID=Europe/Madrid:20220129T200000
DTEND;TZID=Europe/Madrid:20220129T210000
DTSTAMP:20260420T155120
CREATED:20211229T164920Z
LAST-MODIFIED:20220122T185312Z
UID:10565-1643486400-1643490000@www.mientrada.net
SUMMARY:Tomás García Trio - Paso del tiempo
DESCRIPTION:EVENTO CANCELADO. ROGAMOS DISCULPEN LAS MOLESTIAS. \nVuelve a Nerja Tomás García\, este polifacético artista que desde su primer concierto\, Un gato en la luna en noviembre del 2008\, no ha parado de triunfar en nuestro teatro. Ahora en formato de trio\, nos ofrece sus últimas creaciones. \nEl trio está formado por: \n\nTomás García\, guitarrista\nDiego Suarez\, piano\nJuan Heredia\, percusión\n\n  \nNORMAS DE OBLIGADO CUMPLIMIENTO: \n\nPor favor\, siga en todo momento las indicaciones higienico-sanitarias dadas por el personal de la sala.\nObligatorio el uso correcto de la mascarilla (cubriendo nariz y boca) en todo el recinto.\n\n  \nPuede compartir este evento en:
URL:https://www.mientrada.net/evento/tomas-garcia-trio-paso-del-tiempo/
LOCATION:Centro Cultural Villa de Nerja\, Calle Granada 45\, Nerja\, Málaga\, 29780\, España
CATEGORIES:Centro Cultural Villa de Nerja,Nerja
ATTACH;FMTTYPE=image/jpeg:https://www.mientrada.net/wp-content/uploads/2021/12/Cartel-Paso-del-tiempo.jpg
END:VEVENT
BEGIN:VEVENT
DTSTART;TZID=Europe/Madrid:20220130T123000
DTEND;TZID=Europe/Madrid:20220130T133000
DTSTAMP:20260420T155120
CREATED:20211229T165149Z
LAST-MODIFIED:20220127T103918Z
UID:10568-1643545800-1643549400@www.mientrada.net
SUMMARY:La granja de María
DESCRIPTION:¡EVENTO CANCELADO! \nEspectáculo musical para que disfrute toda la familia\, en especial los más pequeños de la casa\, para pasar una mañana de domingo con los niños de una manera diferente y divertida. \n  \nPrecio: 10€ \n  \nNORMAS DE OBLIGADO CUMPLIMIENTO: \n\nPor favor\, siga en todo momento las indicaciones higienico-sanitarias dadas por el personal de la sala.\nObligatorio el uso correcto de la mascarilla (cubriendo nariz y boca) en todo el recinto.\n\n  \nPuede compartir este evento en:
URL:https://www.mientrada.net/evento/la-granja-de-maria/
LOCATION:Centro Cultural Villa de Nerja\, Calle Granada 45\, Nerja\, Málaga\, 29780\, España
CATEGORIES:Centro Cultural Villa de Nerja,Nerja
ATTACH;FMTTYPE=image/jpeg:https://www.mientrada.net/wp-content/uploads/2021/12/Cartel-La-granja-de-Maria.jpg
END:VEVENT
END:VCALENDAR