BEGIN:VCALENDAR
VERSION:2.0
PRODID:-//mientrada.net - ECPv5.16.0//NONSGML v1.0//EN
CALSCALE:GREGORIAN
METHOD:PUBLISH
X-WR-CALNAME:mientrada.net
X-ORIGINAL-URL:https://www.mientrada.net
X-WR-CALDESC:Eventos para mientrada.net
REFRESH-INTERVAL;VALUE=DURATION:PT1H
X-Robots-Tag:noindex
X-PUBLISHED-TTL:PT1H
BEGIN:VTIMEZONE
TZID:Europe/Madrid
BEGIN:DAYLIGHT
TZOFFSETFROM:+0100
TZOFFSETTO:+0200
TZNAME:CEST
DTSTART:20260329T010000
END:DAYLIGHT
BEGIN:STANDARD
TZOFFSETFROM:+0200
TZOFFSETTO:+0100
TZNAME:CET
DTSTART:20261025T010000
END:STANDARD
END:VTIMEZONE
BEGIN:VEVENT
DTSTART;TZID=Europe/Madrid:20260425T200000
DTEND;TZID=Europe/Madrid:20260425T200000
DTSTAMP:20260422T122458
CREATED:20260113T190436Z
LAST-MODIFIED:20260115T090851Z
UID:87022-1777147200-1777147200@www.mientrada.net
SUMMARY:Concierto piano - Bogdan Dugalic
DESCRIPTION:25 ANIVERSARIO TEATRO CIUDAD DE MARBELLA. \nBogdan Dugalic\, joven ganador serbio del II Concurso de piano de Málaga llega al Teatro Ciudad de Marbella para deleitarnos con su talento a través de un recorrido musical. \nBogdan estudia actualmente con el profesor Pavel Gililov de la Universidad Mozarteum de Salzburgo\, así como con el profesor Konstantin Bogino de la Academia Perosi de Biella. Ha obtenido más de 30 premios en certámenes nacionales e internacionales. \nBogdan ha colaborado con la Orquesta Sinfónica Mariinsky\, la Orquesta Sinfónica de la Radio de Helsinki\, la Orquesta de la Radio Noruega\, la Orquesta Filarmónica de Málaga\, la Orquesta de la Radio Serbia\, la Orquesta Sinfónica de Belgrado\, la Royal. \n  \nDescuento del 20%: \n\nmenores de 30 años o mayores de 65 años;\nsocios de la Asociación Amigos del Teatro Ciudad de Marbella;\npersonas con discapacidad igual o superior al 33%;\ndescuentos aplicables a precios superiores a 10€;\ncompra con descuento solo en taquilla;\nimprescindible acreditación mediante documento.\n\n  \nPuede compartir este evento en:
URL:https://www.mientrada.net/evento/marbella-bogdan-dugalic/
LOCATION:Teatro Ciudad de Marbella\, Plaza Ramon Martinez\, 3\, Marbella\, Málaga\, 29603\, España
CATEGORIES:Marbella,Música,Teatro Ciudad de Marbella
ATTACH;FMTTYPE=image/jpeg:https://www.mientrada.net/wp-content/uploads/2026/01/Cartel-Bogdan-Dugalic.jpg
END:VEVENT
BEGIN:VEVENT
DTSTART;TZID=Europe/Madrid:20260430T200000
DTEND;TZID=Europe/Madrid:20260430T200000
DTSTAMP:20260422T122458
CREATED:20260113T190436Z
LAST-MODIFIED:20260115T091247Z
UID:87023-1777579200-1777579200@www.mientrada.net
SUMMARY:Tres piezas - Día internacional danza
DESCRIPTION:25 ANIVERSARIO TEATRO CIUDAD DE MARBELLA. \nCelebración del Día Internacional de la Danza. \nTres piezas es un proyecto de música y danza en el que coexisten dos bailarines y un músico\, utilizando el flamenco como herramienta para establecer puentes entre tres aspectos fundamentales del ser humano: el cuerpo\, la mente y el espíritu. Este espectáculo es una invitación a explorar los misterios de la psique humana y los laberintos del ser. Nos recuerda que somos seres complejos\, atravesados por fuerzas invisibles que nos impulsan y nos definen. \nLa danza y la música se convierten en un portal hacia una comprensión más profunda de nosotros mismos y de nuestra relación con los demás. El escenario\, se transforma en el tablero de juego donde los tres seres se liberan de sus ataduras. Una suite repleta de tradición y modernidad. \n  \nFicha artística: \n\nDirección\, coreografía e interpretación: Karen Lugo y José Maldonado\nMúsica original e interpretación: Juan Gómez «Chicuelo»\n\n  \nPuede compartir este evento en:
URL:https://www.mientrada.net/evento/marbella-tres-piezas-dia-internacional-danza/
LOCATION:Teatro Ciudad de Marbella\, Plaza Ramon Martinez\, 3\, Marbella\, Málaga\, 29603\, España
CATEGORIES:Danza,Marbella,Teatro Ciudad de Marbella
ATTACH;FMTTYPE=image/jpeg:https://www.mientrada.net/wp-content/uploads/2026/01/Cartel-Tres-piezas.jpg
END:VEVENT
BEGIN:VEVENT
DTSTART;TZID=Europe/Madrid:20260503T123000
DTEND;TZID=Europe/Madrid:20260503T123000
DTSTAMP:20260422T122458
CREATED:20260113T190436Z
LAST-MODIFIED:20260115T091643Z
UID:87024-1777811400-1777811400@www.mientrada.net
SUMMARY:Tres tristes trols
DESCRIPTION:25 ANIVERSARIO TEATRO CIUDAD DE MARBELLA. \nEl mundo fantástico de la leyenda no puede separarse del mundo real\, sino que está completamente absorbido por él. Nos encontramos ante los tres últimos trolls del planeta\, están a punto de extinguirse por culpa del aburrimiento humanoide. Pero los trolls no se piensan rendir\, harán todo tipo de exhibiciones\, brutalidades y majaderías con las que encandilar a los humanos. \n  \nFicha artística: \n\nElenco: Darío Dumont\, Emilio Arquillo y Paco Caravaca\nDirección y dramaturgia: Greta García\nEscenografía y vestuario: Anna Jonsson\n\n  \nPuede compartir este evento en:
URL:https://www.mientrada.net/evento/marbella-tres-tristes-trols/
LOCATION:Teatro Ciudad de Marbella\, Plaza Ramon Martinez\, 3\, Marbella\, Málaga\, 29603\, España
CATEGORIES:Familiar,Marbella,Teatro Ciudad de Marbella
ATTACH;FMTTYPE=image/jpeg:https://www.mientrada.net/wp-content/uploads/2026/01/Cartel-Tres-tristes-trols.jpg
END:VEVENT
BEGIN:VEVENT
DTSTART;TZID=Europe/Madrid:20260505T160000
DTEND;TZID=Europe/Madrid:20260505T200000
DTSTAMP:20260422T122458
CREATED:20260113T190436Z
LAST-MODIFIED:20260115T094913Z
UID:87093-1777996800-1778011200@www.mientrada.net
SUMMARY:Taller - Caracterización de la voz
DESCRIPTION:Martes 5 y miércoles 6 de mayo\, de 16:00 a 20:00 horas.  \nLas reservas son nominativas\, indique claramente su nombre\, correo electrónico y teléfono al hacer su reserva.\n \nAprender a conocer y dominar tu instrumento vocal\, perfeccionando la conexión emocional a través de la expresión oral. \nImpartido por Mari Paz Redoli\, especialista en caracterización de personajes a través de la voz y docente de la Escuela Superior de Arte Dramático de Málaga durante 28 años\, te guiará paso a paso en el trabajo de respiración\, juegos sonoros\, articulación\, tono\, volumen y ritmo. \nDirigido: a todas aquellas personas que deseen iniciarse en el aprendizaje de la técnica vocal\, actores\, actrices\, profesores\, profesoras poetas\, poetisas\, etc. \n  \nAforo limitado a 20 personas.\nPrecio del taller: 10€ \n  \nPuede compartir este evento en:
URL:https://www.mientrada.net/evento/marbella-taller-caracterizacion-de-la-voz/
LOCATION:Teatro Ciudad de Marbella\, Plaza Ramon Martinez\, 3\, Marbella\, Málaga\, 29603\, España
CATEGORIES:Marbella,Taller,Teatro Ciudad de Marbella
ATTACH;FMTTYPE=image/jpeg:https://www.mientrada.net/wp-content/uploads/2026/01/Cartel-Taller-Voz.jpg
END:VEVENT
BEGIN:VEVENT
DTSTART;TZID=Europe/Madrid:20260527T160000
DTEND;TZID=Europe/Madrid:20260527T200000
DTSTAMP:20260422T122458
CREATED:20260113T190436Z
LAST-MODIFIED:20260306T115053Z
UID:87103-1779897600-1779912000@www.mientrada.net
SUMMARY:Taller - La máscara expresiva y su uso en escena
DESCRIPTION:Miércoles 27 y jueves 28 de mayo\, de 16:00 a 20:00 horas. \nLas reservas son nominativas\, indique claramente su nombre\, correo electrónico y teléfono al hacer su reserva.\n \nAprender a conocer y dominar tu cuerpo a través del lenguaje de la máscara teatral\, en este taller exploraremos las claves y reglas fundamentales de la máscara y su similitud con el teatro de títeres\, a través del juego\, el movimiento y la observación de lo cotidiano. \nImpartido por Juan Antonio de la Plaza\, discípulo de Jacques Lecoq y especialista en esta famosa técnica\, profesor de Mimo y Pantomima de la Escuela Superior de Arte Dramático de Sevilla durante 30 años\, con una larga trayectoria en el territorio de teatro profesional como director\, titiritero y docente. \nAsistente: Carolina Fernández Santos. Licenciada en Arte Dramático y codirectora de la Cía Flash- Teatro. \nDirigido: a todas aquellas personas que deseen profundizar y conocer esta técnica teatral y quieran aprender el uso de las diferentes máscaras escénicas. \n  \nAforo limitado a 20 personas.\nPrecio del taller: 10€ \n  \nPuede compartir este evento en:
URL:https://www.mientrada.net/evento/marbella-taller-mascara-expresiva/
LOCATION:Teatro Ciudad de Marbella\, Plaza Ramon Martinez\, 3\, Marbella\, Málaga\, 29603\, España
CATEGORIES:Marbella,Taller,Teatro Ciudad de Marbella
ATTACH;FMTTYPE=image/jpeg:https://www.mientrada.net/wp-content/uploads/2026/01/Cartel-Taller-Mascara.jpg
END:VEVENT
BEGIN:VEVENT
DTSTART;TZID=Europe/Madrid:20260603T160000
DTEND;TZID=Europe/Madrid:20260603T200000
DTSTAMP:20260422T122458
CREATED:20260113T190436Z
LAST-MODIFIED:20260115T095015Z
UID:87102-1780502400-1780516800@www.mientrada.net
SUMMARY:Taller de comedia del arte
DESCRIPTION:Miércoles 3 y jueves 4 de junio\, de 16:00 a 20:00 horas. \nLas reservas son nominativas\, indique claramente su nombre\, correo electrónico y teléfono al hacer su reserva.\n \nAprender a través de uno de los más famosos fenómenos de la historia del teatro a trabajar la expresión gestual y el entrenamiento corporal pasando por los diferentes personajes de la Comedia del Arte. \nImpartido por Juan Luis Corriente\, director de escena y actor especializado en Comedia del arte y discípulo directo de los grandes maestros de esta disciplina como son Ferruccio Merisi y Claudia Contin. \nDirigido: a todas aquellas personas que deseen profundizar y conocer el lenguaje y los códigos escénicos de la Comedia del Arte. \n  \nAforo limitado a 20 personas.\nPrecio del taller: 10€ \n  \nPuede compartir este evento en:
URL:https://www.mientrada.net/evento/marbella-taller-de-comedia-del-arte/
LOCATION:Teatro Ciudad de Marbella\, Plaza Ramon Martinez\, 3\, Marbella\, Málaga\, 29603\, España
CATEGORIES:Marbella,Taller,Teatro Ciudad de Marbella
ATTACH;FMTTYPE=image/jpeg:https://www.mientrada.net/wp-content/uploads/2026/01/Cartel-Taller-Comedia.jpg
END:VEVENT
END:VCALENDAR